BEGIN:VCALENDAR
VERSION:2.0
PRODID:-//Contratero//ES
CALSCALE:GREGORIAN
METHOD:PUBLISH
BEGIN:VEVENT
UID:CP00038/2025@contratero.es
DTSTAMP:20260420T140620Z
DTSTART:20250703T235959
DTEND:20250704T005959
SUMMARY:Cierre: Contratación Mixta del Suministro de licencias de 
DESCRIPTION:Contratación Mixta del Suministro de licencias de Software para gestión de personal y Servicios Profesionales de implantación para ASEPEYO\\n\\nOrganismo: Subdirección General de Medios de ASEPEYO. Mutua Colaboradora con la Seguridad Social. num. 151\\n\\nVer en Contratero: https://contratero.es/contracts/CP00038/2025
URL:https://contratero.es/contracts/CP00038/2025
STATUS:CONFIRMED
BEGIN:VALARM
TRIGGER:-P1D
ACTION:DISPLAY
DESCRIPTION:Recordatorio: Contratación Mixta del Suminis
END:VALARM
END:VEVENT
END:VCALENDAR