BEGIN:VCALENDAR
VERSION:2.0
PRODID:-//Contratero//ES
CALSCALE:GREGORIAN
METHOD:PUBLISH
BEGIN:VEVENT
UID:CP00050/2022@contratero.es
DTSTAMP:20260422T035112Z
DTSTART:20230216T235959
DTEND:20230217T005959
SUMMARY:Cierre: Servicio de gestión de la bonificación por formaci
DESCRIPTION:Servicio de gestión de la bonificación por formación y permisos individuales de formación para Asepeyo\, Mutua Colaboradora con la Seguridad Social nº 151.\\n\\nOrganismo: Subdirección General de Medios de ASEPEYO. Mutua Colaboradora con la Seguridad Social. num. 151\\n\\nVer en Contratero: https://contratero.es/contracts/CP00050/2022
URL:https://contratero.es/contracts/CP00050/2022
STATUS:CONFIRMED
BEGIN:VALARM
TRIGGER:-P1D
ACTION:DISPLAY
DESCRIPTION:Recordatorio: Servicio de gestión de la boni
END:VALARM
END:VEVENT
END:VCALENDAR