BEGIN:VCALENDAR
VERSION:2.0
PRODID:-//Contratero//ES
CALSCALE:GREGORIAN
METHOD:PUBLISH
BEGIN:VEVENT
UID:CP00157/2025@contratero.es
DTSTAMP:20260420T020817Z
DTSTART:20251215T235959
DTEND:20251216T005959
SUMMARY:Cierre: Contratación mixta para la renovación del suminist
DESCRIPTION:Contratación mixta para la renovación del suministro de licencia\, servicio de mantenimiento e integración del sistema informático de gestión del laboratorio del Hospital de Coslada\, para ASEPEYO Mutua...\\n\\nOrganismo: Subdirección General de Medios de ASEPEYO. Mutua Colaboradora con la Seguridad Social. num. 151\\n\\nVer en Contratero: https://contratero.es/contracts/CP00157/2025
URL:https://contratero.es/contracts/CP00157/2025
STATUS:CONFIRMED
BEGIN:VALARM
TRIGGER:-P1D
ACTION:DISPLAY
DESCRIPTION:Recordatorio: Contratación mixta para la ren
END:VALARM
END:VEVENT
END:VCALENDAR