BEGIN:VCALENDAR
VERSION:2.0
PRODID:-//Contratero//ES
CALSCALE:GREGORIAN
METHOD:PUBLISH
BEGIN:VEVENT
UID:CP00193/2025@contratero.es
DTSTAMP:20260419T120518Z
DTSTART:20260420T235959
DTEND:20260421T005959
SUMMARY:Cierre: Servicio de publicación de ofertas de trabajo y bú
DESCRIPTION:Servicio de publicación de ofertas de trabajo y búsqueda en base de datos de candidatos a través de portal de empleo para ASEPEYO\\n\\nOrganismo: Subdirección General de Medios de ASEPEYO. Mutua Colaboradora con la Seguridad Social. num. 151\\n\\nVer en Contratero: https://contratero.es/contracts/CP00193/2025
URL:https://contratero.es/contracts/CP00193/2025
STATUS:CONFIRMED
BEGIN:VALARM
TRIGGER:-P1D
ACTION:DISPLAY
DESCRIPTION:Recordatorio: Servicio de publicación de ofe
END:VALARM
END:VEVENT
END:VCALENDAR