BEGIN:VCALENDAR
VERSION:2.0
PRODID:-//Contratero//ES
CALSCALE:GREGORIAN
METHOD:PUBLISH
BEGIN:VEVENT
UID:CP2147@contratero.es
DTSTAMP:20260423T080648Z
DTSTART:20201003T235959
DTEND:20201004T005959
SUMMARY:Cierre: Contrato del Servicio Impartición de Cursos Inform
DESCRIPTION:Contrato del Servicio Impartición de Cursos Informática Básica y Tecnologías\\n\\nOrganismo: Alcaldía del Ayuntamiento de Soto del Real\\n\\nVer en Contratero: https://contratero.es/contracts/CP2147
URL:https://contratero.es/contracts/CP2147
STATUS:CONFIRMED
BEGIN:VALARM
TRIGGER:-P1D
ACTION:DISPLAY
DESCRIPTION:Recordatorio: Contrato del Servicio Impartic
END:VALARM
END:VEVENT
END:VCALENDAR