BEGIN:VCALENDAR
VERSION:2.0
PRODID:-//Contratero//ES
CALSCALE:GREGORIAN
METHOD:PUBLISH
BEGIN:VEVENT
UID:CS/2025/20@contratero.es
DTSTAMP:20260425T113558Z
DTSTART:20250910T235959
DTEND:20250911T005959
SUMMARY:Cierre: Servicio de desarrollo de una aplicación informáti
DESCRIPTION:Servicio de desarrollo de una aplicación informática para la gestión de aprovechamientos forestales (APRO) financiado en el marco del Plan de Recuperación\, Transformación y Resiliencia\, por la Unión E...\\n\\nOrganismo: Sociedad Pública de Infraestructuras y Medio Ambiente de Castilla y León S.A.\\n\\nVer en Contratero: https://contratero.es/contracts/CS/2025/20
URL:https://contratero.es/contracts/CS/2025/20
STATUS:CONFIRMED
BEGIN:VALARM
TRIGGER:-P1D
ACTION:DISPLAY
DESCRIPTION:Recordatorio: Servicio de desarrollo de una 
END:VALARM
END:VEVENT
END:VCALENDAR