BEGIN:VCALENDAR
VERSION:2.0
PRODID:-//Contratero//ES
CALSCALE:GREGORIAN
METHOD:PUBLISH
BEGIN:VEVENT
UID:CS2021/103@contratero.es
DTSTAMP:20260421T201555Z
DTSTART:20220111T235959
DTEND:20220112T005959
SUMMARY:Cierre: Suministro de licencias del software de 2FA Cisco 
DESCRIPTION:Suministro de licencias del software de 2FA Cisco Duo\\n\\nOrganismo: Junta de Gobierno del Ayuntamiento de Oviedo\\n\\nVer en Contratero: https://contratero.es/contracts/CS2021/103
URL:https://contratero.es/contracts/CS2021/103
STATUS:CONFIRMED
BEGIN:VALARM
TRIGGER:-P1D
ACTION:DISPLAY
DESCRIPTION:Recordatorio: Suministro de licencias del so
END:VALARM
END:VEVENT
END:VCALENDAR