BEGIN:VCALENDAR
VERSION:2.0
PRODID:-//Contratero//ES
CALSCALE:GREGORIAN
METHOD:PUBLISH
BEGIN:VEVENT
UID:CSE/99/1125004776/25/PA@contratero.es
DTSTAMP:20260422T130800Z
DTSTART:20250627T235959
DTEND:20250628T005959
SUMMARY:Cierre: La contratación mixta de servicios especializados 
DESCRIPTION:La contratación mixta de servicios especializados y suministros necesarios para llevar a cabo la implementación y puesta en marcha del Plan de Atención Digital Personalizada (PADP) en el Servicio Extr...\\n\\nOrganismo: Dirección General de Planificación Económica\\n\\nVer en Contratero: https://contratero.es/contracts/CSE/99/1125004776/25/PA
URL:https://contratero.es/contracts/CSE/99/1125004776/25/PA
STATUS:CONFIRMED
BEGIN:VALARM
TRIGGER:-P1D
ACTION:DISPLAY
DESCRIPTION:Recordatorio: La contratación mixta de servi
END:VALARM
END:VEVENT
END:VCALENDAR