BEGIN:VCALENDAR
VERSION:2.0
PRODID:-//Contratero//ES
CALSCALE:GREGORIAN
METHOD:PUBLISH
BEGIN:VEVENT
UID:CSE/99/1125021282/25/PA@contratero.es
DTSTAMP:20260421T140158Z
DTSTART:20250613T235959
DTEND:20250614T005959
SUMMARY:Cierre: Servicios de soporte\, mantenimiento\, desarrollo y 
DESCRIPTION:Servicios de soporte\, mantenimiento\, desarrollo y evolución del sistema de información "JARA ECOFIN-RRHH" del Servicio Extremeño de Salud\\n\\nOrganismo: Dirección General de Planificación Económica\\n\\nVer en Contratero: https://contratero.es/contracts/CSE/99/1125021282/25/PA
URL:https://contratero.es/contracts/CSE/99/1125021282/25/PA
STATUS:CONFIRMED
BEGIN:VALARM
TRIGGER:-P1D
ACTION:DISPLAY
DESCRIPTION:Recordatorio: Servicios de soporte\, mantenim
END:VALARM
END:VEVENT
END:VCALENDAR