BEGIN:VCALENDAR
VERSION:2.0
PRODID:-//Contratero//ES
CALSCALE:GREGORIAN
METHOD:PUBLISH
BEGIN:VEVENT
UID:CSE/9900/1101018962/21/PA@contratero.es
DTSTAMP:20260422T162037Z
DTSTART:20211115T235959
DTEND:20211116T005959
SUMMARY:Cierre: Servicios de Interoperabilidad para el Servicio Mu
DESCRIPTION:Servicios de Interoperabilidad para el Servicio Murciano de Salud\\n\\nOrganismo: Servicio Murciano de Salud - Gerencia\\n\\nVer en Contratero: https://contratero.es/contracts/CSE/9900/1101018962/21/PA
URL:https://contratero.es/contracts/CSE/9900/1101018962/21/PA
STATUS:CONFIRMED
BEGIN:VALARM
TRIGGER:-P1D
ACTION:DISPLAY
DESCRIPTION:Recordatorio: Servicios de Interoperabilidad
END:VALARM
END:VEVENT
END:VCALENDAR