BEGIN:VCALENDAR
VERSION:2.0
PRODID:-//Contratero//ES
CALSCALE:GREGORIAN
METHOD:PUBLISH
BEGIN:VEVENT
UID:CSE/9900/1101106790/23/CBRM@contratero.es
DTSTAMP:20260422T130807Z
DTSTART:20230905T235959
DTEND:20230906T005959
SUMMARY:Cierre: Contrato Basado de Servicios de Desarrollo de los 
DESCRIPTION:Contrato Basado de Servicios de Desarrollo de los Sistemas de Información de la Selección y Gestión de los Recursos Humanos del Servicio Murciano de Salud\, en el Acuerdo Marco CSE/9900/1101047835/22/A...\\n\\nOrganismo: Servicio Murciano de Salud - Gerencia\\n\\nVer en Contratero: https://contratero.es/contracts/CSE/9900/1101106790/23/CBRM
URL:https://contratero.es/contracts/CSE/9900/1101106790/23/CBRM
STATUS:CONFIRMED
BEGIN:VALARM
TRIGGER:-P1D
ACTION:DISPLAY
DESCRIPTION:Recordatorio: Contrato Basado de Servicios d
END:VALARM
END:VEVENT
END:VCALENDAR