BEGIN:VCALENDAR
VERSION:2.0
PRODID:-//Contratero//ES
CALSCALE:GREGORIAN
METHOD:PUBLISH
BEGIN:VEVENT
UID:CSE/9900/1101124499/24/CBRM@contratero.es
DTSTAMP:20260422T100044Z
DTSTART:20240202T235959
DTEND:20240203T005959
SUMMARY:Cierre: Contrato Basado de Servicios de Desarrollo y Sopor
DESCRIPTION:Contrato Basado de Servicios de Desarrollo y Soporte del Sistema de Información de Historia Clínica Farmacológica del Servicio Murciano de Salud\, en el Acuerdo Marco CSE/9900/1101047835/22/AM - Contra...\\n\\nOrganismo: Servicio Murciano de Salud - Gerencia\\n\\nVer en Contratero: https://contratero.es/contracts/CSE/9900/1101124499/24/CBRM
URL:https://contratero.es/contracts/CSE/9900/1101124499/24/CBRM
STATUS:CONFIRMED
BEGIN:VALARM
TRIGGER:-P1D
ACTION:DISPLAY
DESCRIPTION:Recordatorio: Contrato Basado de Servicios d
END:VALARM
END:VEVENT
END:VCALENDAR