BEGIN:VCALENDAR
VERSION:2.0
PRODID:-//Contratero//ES
CALSCALE:GREGORIAN
METHOD:PUBLISH
BEGIN:VEVENT
UID:CSE/9900/1101128714/24/CBRM@contratero.es
DTSTAMP:20260425T225506Z
DTSTART:20240320T235959
DTEND:20240321T005959
SUMMARY:Cierre: Contrato Basado de Servicios de Desarrollo y Sopor
DESCRIPTION:Contrato Basado de Servicios de Desarrollo y Soporte de los Sistemas de Información de Apoyo a la Planificación y Gestión de los Recursos Económicos del Servicio Murciano de Salud\, en el Acuerdo Marco...\\n\\nOrganismo: Servicio Murciano de Salud - Gerencia\\n\\nVer en Contratero: https://contratero.es/contracts/CSE/9900/1101128714/24/CBRM
URL:https://contratero.es/contracts/CSE/9900/1101128714/24/CBRM
STATUS:CONFIRMED
BEGIN:VALARM
TRIGGER:-P1D
ACTION:DISPLAY
DESCRIPTION:Recordatorio: Contrato Basado de Servicios d
END:VALARM
END:VEVENT
END:VCALENDAR