BEGIN:VCALENDAR
VERSION:2.0
PRODID:-//Contratero//ES
CALSCALE:GREGORIAN
METHOD:PUBLISH
BEGIN:VEVENT
UID:CSE/9900/1101130044/24/PA@contratero.es
DTSTAMP:20260425T212016Z
DTSTART:20240503T235959
DTEND:20240504T005959
SUMMARY:Cierre: Servicio de mantenimiento de electrónica crítica d
DESCRIPTION:Servicio de mantenimiento de electrónica crítica de red y seguridad del Servicio Murciano de Salud 2024-2025\\n\\nOrganismo: Servicio Murciano de Salud - Gerencia\\n\\nVer en Contratero: https://contratero.es/contracts/CSE/9900/1101130044/24/PA
URL:https://contratero.es/contracts/CSE/9900/1101130044/24/PA
STATUS:CONFIRMED
BEGIN:VALARM
TRIGGER:-P1D
ACTION:DISPLAY
DESCRIPTION:Recordatorio: Servicio de mantenimiento de e
END:VALARM
END:VEVENT
END:VCALENDAR