BEGIN:VCALENDAR
VERSION:2.0
PRODID:-//Contratero//ES
CALSCALE:GREGORIAN
METHOD:PUBLISH
BEGIN:VEVENT
UID:CSE/9900/1101155586/24/CBRM@contratero.es
DTSTAMP:20260424T192645Z
DTSTART:20241205T235959
DTEND:20241206T005959
SUMMARY:Cierre: Contrato Basado de Servicios de desarrollo para un
DESCRIPTION:Contrato Basado de Servicios de desarrollo para un nuevo módulo para la detección precoz de enfermedades neurodegenerativas en el gestor de peticiones del SMS\, en el Acuerdo Marco CSE/9900/1101047835/...\\n\\nOrganismo: Servicio Murciano de Salud - Gerencia\\n\\nVer en Contratero: https://contratero.es/contracts/CSE/9900/1101155586/24/CBRM
URL:https://contratero.es/contracts/CSE/9900/1101155586/24/CBRM
STATUS:CONFIRMED
BEGIN:VALARM
TRIGGER:-P1D
ACTION:DISPLAY
DESCRIPTION:Recordatorio: Contrato Basado de Servicios d
END:VALARM
END:VEVENT
END:VCALENDAR