BEGIN:VCALENDAR
VERSION:2.0
PRODID:-//Contratero//ES
CALSCALE:GREGORIAN
METHOD:PUBLISH
BEGIN:VEVENT
UID:CSE/9900/1101166891/25/PA@contratero.es
DTSTAMP:20260423T064854Z
DTSTART:20250611T235959
DTEND:20250612T005959
SUMMARY:Cierre: Solución de Codificación clínica mediante procesam
DESCRIPTION:Solución de Codificación clínica mediante procesamiento del lenguaje natural (PLN). Plan de Recuperación\, Transformación y Resiliencia. Financiado por la Unión Europea.  Nextgenerationeu\\n\\nOrganismo: Servicio Murciano de Salud - Gerencia\\n\\nVer en Contratero: https://contratero.es/contracts/CSE/9900/1101166891/25/PA
URL:https://contratero.es/contracts/CSE/9900/1101166891/25/PA
STATUS:CONFIRMED
BEGIN:VALARM
TRIGGER:-P1D
ACTION:DISPLAY
DESCRIPTION:Recordatorio: Solución de Codificación clíni
END:VALARM
END:VEVENT
END:VCALENDAR