BEGIN:VCALENDAR
VERSION:2.0
PRODID:-//Contratero//ES
CALSCALE:GREGORIAN
METHOD:PUBLISH
BEGIN:VEVENT
UID:CSE/9999/1101041891/22/PA@contratero.es
DTSTAMP:20260423T005049Z
DTSTART:20220506T235959
DTEND:20220507T005959
SUMMARY:Cierre: Servicio de mecanización de datos de los justifica
DESCRIPTION:Servicio de mecanización de datos de los justificantes de dispensación de receta electrónica y de las recetas facturadas al Servicio Murciano de Salud\\n\\nOrganismo: Servicio Murciano de Salud - Gerencia\\n\\nVer en Contratero: https://contratero.es/contracts/CSE/9999/1101041891/22/PA
URL:https://contratero.es/contracts/CSE/9999/1101041891/22/PA
STATUS:CONFIRMED
BEGIN:VALARM
TRIGGER:-P1D
ACTION:DISPLAY
DESCRIPTION:Recordatorio: Servicio de mecanización de da
END:VALARM
END:VEVENT
END:VCALENDAR