BEGIN:VCALENDAR
VERSION:2.0
PRODID:-//Contratero//ES
CALSCALE:GREGORIAN
METHOD:PUBLISH
BEGIN:VEVENT
UID:CSER/PAS/1/2020@contratero.es
DTSTAMP:20260423T044922Z
DTSTART:20210113T235959
DTEND:20210114T005959
SUMMARY:Cierre: Servicio de Mantenimiento de los Sistemas y Equipo
DESCRIPTION:Servicio de Mantenimiento de los Sistemas y Equipos Informáticos de la Mancomunidad Intermunicipal "La Encina"\\n\\nOrganismo: Presidencia de la Mancomunidad Intermunicipal La Encina\\n\\nVer en Contratero: https://contratero.es/contracts/CSER/PAS/1/2020
URL:https://contratero.es/contracts/CSER/PAS/1/2020
STATUS:CONFIRMED
BEGIN:VALARM
TRIGGER:-P1D
ACTION:DISPLAY
DESCRIPTION:Recordatorio: Servicio de Mantenimiento de l
END:VALARM
END:VEVENT
END:VCALENDAR