BEGIN:VCALENDAR
VERSION:2.0
PRODID:-//Contratero//ES
CALSCALE:GREGORIAN
METHOD:PUBLISH
BEGIN:VEVENT
UID:CSRV.14/23@contratero.es
DTSTAMP:20260422T221033Z
DTSTART:20230518T235959
DTEND:20230519T005959
SUMMARY:Cierre: Suscripción para las actualizaciones de los módulo
DESCRIPTION:Suscripción para las actualizaciones de los módulos de software para\npresupuestos y mediciones\, gestión de proyectos y personalización de informes de\nPRESTO para la Diputación de Guadalajara.\\n\\nOrganismo: Presidencia de la Diputación Provincial de Guadalajara\\n\\nVer en Contratero: https://contratero.es/contracts/CSRV.14/23
URL:https://contratero.es/contracts/CSRV.14/23
STATUS:CONFIRMED
BEGIN:VALARM
TRIGGER:-P1D
ACTION:DISPLAY
DESCRIPTION:Recordatorio: Suscripción para las actualiza
END:VALARM
END:VEVENT
END:VCALENDAR