BEGIN:VCALENDAR
VERSION:2.0
PRODID:-//Contratero//ES
CALSCALE:GREGORIAN
METHOD:PUBLISH
BEGIN:VEVENT
UID:CSRV.18/23@contratero.es
DTSTAMP:20260422T182231Z
DTSTART:20230911T235959
DTEND:20230912T005959
SUMMARY:Cierre: Implantación y desarrollo del proyecto "Provincia 
DESCRIPTION:Implantación y desarrollo del proyecto "Provincia Digital"\\n\\nOrganismo: Presidencia de la Diputación Provincial de Guadalajara\\n\\nVer en Contratero: https://contratero.es/contracts/CSRV.18/23
URL:https://contratero.es/contracts/CSRV.18/23
STATUS:CONFIRMED
BEGIN:VALARM
TRIGGER:-P1D
ACTION:DISPLAY
DESCRIPTION:Recordatorio: Implantación y desarrollo del 
END:VALARM
END:VEVENT
END:VCALENDAR