BEGIN:VCALENDAR
VERSION:2.0
PRODID:-//Contratero//ES
CALSCALE:GREGORIAN
METHOD:PUBLISH
BEGIN:VEVENT
UID:CSRV.24/22@contratero.es
DTSTAMP:20260423T121108Z
DTSTART:20221020T235959
DTEND:20221021T005959
SUMMARY:Cierre: servicio de mantenimiento de las líneas de comunic
DESCRIPTION:servicio de mantenimiento de las líneas de comunicaciones que deben de proveer el acceso a internet de la Diputación de Guadalajara y sus sedes\\n\\nOrganismo: Presidencia de la Diputación Provincial de Guadalajara\\n\\nVer en Contratero: https://contratero.es/contracts/CSRV.24/22
URL:https://contratero.es/contracts/CSRV.24/22
STATUS:CONFIRMED
BEGIN:VALARM
TRIGGER:-P1D
ACTION:DISPLAY
DESCRIPTION:Recordatorio: servicio de mantenimiento de l
END:VALARM
END:VEVENT
END:VCALENDAR