BEGIN:VCALENDAR
VERSION:2.0
PRODID:-//Contratero//ES
CALSCALE:GREGORIAN
METHOD:PUBLISH
BEGIN:VEVENT
UID:CSRV.3/26@contratero.es
DTSTAMP:20260419T231908Z
DTSTART:20251209T235959
DTEND:20251210T005959
SUMMARY:Cierre: Servicio de gestión de contenidos web
DESCRIPTION:Servicio de gestión de contenidos web\\n\\nOrganismo: Presidencia de la Diputación Provincial de Guadalajara\\n\\nVer en Contratero: https://contratero.es/contracts/CSRV.3/26
URL:https://contratero.es/contracts/CSRV.3/26
STATUS:CONFIRMED
BEGIN:VALARM
TRIGGER:-P1D
ACTION:DISPLAY
DESCRIPTION:Recordatorio: Servicio de gestión de conteni
END:VALARM
END:VEVENT
END:VCALENDAR