BEGIN:VCALENDAR
VERSION:2.0
PRODID:-//Contratero//ES
CALSCALE:GREGORIAN
METHOD:PUBLISH
BEGIN:VEVENT
UID:CSRV.32/25@contratero.es
DTSTAMP:20260420T081914Z
DTSTART:20250404T235959
DTEND:20250405T005959
SUMMARY:Cierre: Servicio de soporte\, mantenimiento y actualización
DESCRIPTION:Servicio de soporte\, mantenimiento y actualización de licencia de software de gestión de bases de datos\nrelacional Oracle\\n\\nOrganismo: Presidencia de la Diputación Provincial de Guadalajara\\n\\nVer en Contratero: https://contratero.es/contracts/CSRV.32/25
URL:https://contratero.es/contracts/CSRV.32/25
STATUS:CONFIRMED
BEGIN:VALARM
TRIGGER:-P1D
ACTION:DISPLAY
DESCRIPTION:Recordatorio: Servicio de soporte\, mantenimi
END:VALARM
END:VEVENT
END:VCALENDAR