BEGIN:VCALENDAR
VERSION:2.0
PRODID:-//Contratero//ES
CALSCALE:GREGORIAN
METHOD:PUBLISH
BEGIN:VEVENT
UID:CSRV.34/25@contratero.es
DTSTAMP:20260420T030310Z
DTSTART:20250902T235959
DTEND:20250903T005959
SUMMARY:Cierre: Mantenimiento del Portal de Transparencia
DESCRIPTION:Mantenimiento del Portal de Transparencia\\n\\nOrganismo: Presidencia de la Diputación Provincial de Guadalajara\\n\\nVer en Contratero: https://contratero.es/contracts/CSRV.34/25
URL:https://contratero.es/contracts/CSRV.34/25
STATUS:CONFIRMED
BEGIN:VALARM
TRIGGER:-P1D
ACTION:DISPLAY
DESCRIPTION:Recordatorio: Mantenimiento del Portal de Tr
END:VALARM
END:VEVENT
END:VCALENDAR