BEGIN:VCALENDAR
VERSION:2.0
PRODID:-//Contratero//ES
CALSCALE:GREGORIAN
METHOD:PUBLISH
BEGIN:VEVENT
UID:CSRV.6/25@contratero.es
DTSTAMP:20260424T013055Z
DTSTART:20250130T235959
DTEND:20250131T005959
SUMMARY:Cierre: Servicio de sistema de información tributario y re
DESCRIPTION:Servicio de sistema de información tributario y recaudatorio\, consistente en una aplicación informática y en\nla prestación integral de los servicios tecnológicos para su explotación para el\nServicio...\\n\\nOrganismo: Presidencia de la Diputación Provincial de Guadalajara\\n\\nVer en Contratero: https://contratero.es/contracts/CSRV.6/25
URL:https://contratero.es/contracts/CSRV.6/25
STATUS:CONFIRMED
BEGIN:VALARM
TRIGGER:-P1D
ACTION:DISPLAY
DESCRIPTION:Recordatorio: Servicio de sistema de informa
END:VALARM
END:VEVENT
END:VCALENDAR