BEGIN:VCALENDAR
VERSION:2.0
PRODID:-//Contratero//ES
CALSCALE:GREGORIAN
METHOD:PUBLISH
BEGIN:VEVENT
UID:CST/2018/34@contratero.es
DTSTAMP:20260425T163312Z
DTSTART:20180605T235959
DTEND:20180606T005959
SUMMARY:Cierre: Suministro de software de copia de seguridad y rec
DESCRIPTION:Suministro de software de copia de seguridad y recuperación para los Sistemas de Información del CAST\\n\\nOrganismo: Presidencia del Consorcio Asturiano de Servicios Tecnológicos\\n\\nVer en Contratero: https://contratero.es/contracts/CST/2018/34
URL:https://contratero.es/contracts/CST/2018/34
STATUS:CONFIRMED
BEGIN:VALARM
TRIGGER:-P1D
ACTION:DISPLAY
DESCRIPTION:Recordatorio: Suministro de software de copi
END:VALARM
END:VEVENT
END:VCALENDAR