BEGIN:VCALENDAR
VERSION:2.0
PRODID:-//Contratero//ES
CALSCALE:GREGORIAN
METHOD:PUBLISH
BEGIN:VEVENT
UID:CST/2022/43@contratero.es
DTSTAMP:20260422T085613Z
DTSTART:20220315T235959
DTEND:20220316T005959
SUMMARY:Cierre: Suministro en forma de suscripción de paquetes de 
DESCRIPTION:Suministro en forma de suscripción de paquetes de antivirus y seguridad\\n\\nOrganismo: Presidencia del Consorcio Asturiano de Servicios Tecnológicos\\n\\nVer en Contratero: https://contratero.es/contracts/CST/2022/43
URL:https://contratero.es/contracts/CST/2022/43
STATUS:CONFIRMED
BEGIN:VALARM
TRIGGER:-P1D
ACTION:DISPLAY
DESCRIPTION:Recordatorio: Suministro en forma de suscrip
END:VALARM
END:VEVENT
END:VCALENDAR