BEGIN:VCALENDAR
VERSION:2.0
PRODID:-//Contratero//ES
CALSCALE:GREGORIAN
METHOD:PUBLISH
BEGIN:VEVENT
UID:CST/2023/13@contratero.es
DTSTAMP:20260419T163643Z
DTSTART:20231213T235959
DTEND:20231214T005959
SUMMARY:Cierre: Suministro de equipamiento informático para puesto
DESCRIPTION:Suministro de equipamiento informático para puestos de trabajo inteligentes en los Ayuntamientos asturianos de menos de 20.000 habitantes\\n\\nOrganismo: Presidencia del Consorcio Asturiano de Servicios Tecnológicos\\n\\nVer en Contratero: https://contratero.es/contracts/CST/2023/13
URL:https://contratero.es/contracts/CST/2023/13
STATUS:CONFIRMED
BEGIN:VALARM
TRIGGER:-P1D
ACTION:DISPLAY
DESCRIPTION:Recordatorio: Suministro de equipamiento inf
END:VALARM
END:VEVENT
END:VCALENDAR