BEGIN:VCALENDAR
VERSION:2.0
PRODID:-//Contratero//ES
CALSCALE:GREGORIAN
METHOD:PUBLISH
BEGIN:VEVENT
UID:CSer/2025/11@contratero.es
DTSTAMP:20260422T051525Z
DTSTART:20260112T235959
DTEND:20260113T005959
SUMMARY:Cierre: Suministro y servicios asociados para la actualiza
DESCRIPTION:Suministro y servicios asociados para la actualización del sistema de control distribuido de la IDAM de Escombreras\\n\\nOrganismo: Desaladora de Escombreras\, S.A.U.\\n\\nVer en Contratero: https://contratero.es/contracts/CSer/2025/11
URL:https://contratero.es/contracts/CSer/2025/11
STATUS:CONFIRMED
BEGIN:VALARM
TRIGGER:-P1D
ACTION:DISPLAY
DESCRIPTION:Recordatorio: Suministro y servicios asociad
END:VALARM
END:VEVENT
END:VCALENDAR