BEGIN:VCALENDAR
VERSION:2.0
PRODID:-//Contratero//ES
CALSCALE:GREGORIAN
METHOD:PUBLISH
BEGIN:VEVENT
UID:CTAS-22/6@contratero.es
DTSTAMP:20260422T183016Z
DTSTART:20221122T235959
DTEND:20221123T005959
SUMMARY:Cierre: Servicio de réplica de la copia de seguridad del e
DESCRIPTION:Servicio de réplica de la copia de seguridad del entorno de producción corporativo actual de EVHA en la nube\\n\\nOrganismo: Dirección General de la Entidad Valenciana de Vivienda y Suelo (EVHA)\\n\\nVer en Contratero: https://contratero.es/contracts/CTAS-22/6
URL:https://contratero.es/contracts/CTAS-22/6
STATUS:CONFIRMED
BEGIN:VALARM
TRIGGER:-P1D
ACTION:DISPLAY
DESCRIPTION:Recordatorio: Servicio de réplica de la copi
END:VALARM
END:VEVENT
END:VCALENDAR