BEGIN:VCALENDAR
VERSION:2.0
PRODID:-//Contratero//ES
CALSCALE:GREGORIAN
METHOD:PUBLISH
BEGIN:VEVENT
UID:CT_DN-CO-SE-2503@contratero.es
DTSTAMP:20260420T140754Z
DTSTART:20250430T235959
DTEND:20250501T005959
SUMMARY:Cierre: Contratación de un servicio de conectividad a inte
DESCRIPTION:Contratación de un servicio de conectividad a internet en Córdoba\\n\\nOrganismo: Dirección General de Correos Telecom\\n\\nVer en Contratero: https://contratero.es/contracts/CT_DN-CO-SE-2503
URL:https://contratero.es/contracts/CT_DN-CO-SE-2503
STATUS:CONFIRMED
BEGIN:VALARM
TRIGGER:-P1D
ACTION:DISPLAY
DESCRIPTION:Recordatorio: Contratación de un servicio de
END:VALARM
END:VEVENT
END:VCALENDAR