BEGIN:VCALENDAR
VERSION:2.0
PRODID:-//Contratero//ES
CALSCALE:GREGORIAN
METHOD:PUBLISH
BEGIN:VEVENT
UID:CU(SG)-7114@contratero.es
DTSTAMP:20260422T113627Z
DTSTART:20240403T235959
DTEND:20240404T005959
SUMMARY:Cierre: Suministro de suscripciones de Licencias de softwa
DESCRIPTION:Suministro de suscripciones de Licencias de software de gestión de la información para la productividad de usuario.\\n\\nOrganismo: Presidencia de la Confederación Hidrográfica del Guadalquivir\\n\\nVer en Contratero: https://contratero.es/contracts/CU(SG)-7114
URL:https://contratero.es/contracts/CU(SG)-7114
STATUS:CONFIRMED
BEGIN:VALARM
TRIGGER:-P1D
ACTION:DISPLAY
DESCRIPTION:Recordatorio: Suministro de suscripciones de
END:VALARM
END:VEVENT
END:VCALENDAR