BEGIN:VCALENDAR
VERSION:2.0
PRODID:-//Contratero//ES
CALSCALE:GREGORIAN
METHOD:PUBLISH
BEGIN:VEVENT
UID:CYP/2025/182@contratero.es
DTSTAMP:20260423T165638Z
DTSTART:20251121T235959
DTEND:20251122T005959
SUMMARY:Cierre: Contrato de Suministro  de 140 licencias de Google
DESCRIPTION:Contrato de Suministro  de 140 licencias de Google WorkSpace Business Starter y su mantenimiento y soporte al Ayuntamiento de Tineo\, por procedimiento abierto simplificado sumario y tramitación ordina...\\n\\nOrganismo: Alcaldía del Ayuntamiento de Tineo\\n\\nVer en Contratero: https://contratero.es/contracts/CYP/2025/182
URL:https://contratero.es/contracts/CYP/2025/182
STATUS:CONFIRMED
BEGIN:VALARM
TRIGGER:-P1D
ACTION:DISPLAY
DESCRIPTION:Recordatorio: Contrato de Suministro  de 140
END:VALARM
END:VEVENT
END:VCALENDAR