BEGIN:VCALENDAR
VERSION:2.0
PRODID:-//Contratero//ES
CALSCALE:GREGORIAN
METHOD:PUBLISH
BEGIN:VEVENT
UID:Cserv13/24@contratero.es
DTSTAMP:20260421T075155Z
DTSTART:20240805T235959
DTEND:20240806T005959
SUMMARY:Cierre: Contrato de servicios para la implantación y mante
DESCRIPTION:Contrato de servicios para la implantación y mantenimiento del módulo de vigilancia de accesos remotos\, de la herramienta emma del CCN-CERT en el Ayuntamiento de San Vicente del Raspeig\\n\\nOrganismo: Junta de Gobierno del Ayuntamiento de San Vicente Raspeig\\n\\nVer en Contratero: https://contratero.es/contracts/Cserv13/24
URL:https://contratero.es/contracts/Cserv13/24
STATUS:CONFIRMED
BEGIN:VALARM
TRIGGER:-P1D
ACTION:DISPLAY
DESCRIPTION:Recordatorio: Contrato de servicios para la 
END:VALARM
END:VEVENT
END:VCALENDAR