BEGIN:VCALENDAR
VERSION:2.0
PRODID:-//Contratero//ES
CALSCALE:GREGORIAN
METHOD:PUBLISH
BEGIN:VEVENT
UID:Csum16/25@contratero.es
DTSTAMP:20260420T140300Z
DTSTART:20260312T235959
DTEND:20260313T005959
SUMMARY:Cierre: Contrato de suministro\, instalación y puesta en se
DESCRIPTION:Contrato de suministro\, instalación y puesta en servicio de una solución XDR gestionada para la mejora de las capacidades de ciberseguridad en los sistemas informáticos del Ayuntamiento de San Vicente...\\n\\nOrganismo: Junta de Gobierno del Ayuntamiento de San Vicente Raspeig\\n\\nVer en Contratero: https://contratero.es/contracts/Csum16/25
URL:https://contratero.es/contracts/Csum16/25
STATUS:CONFIRMED
BEGIN:VALARM
TRIGGER:-P1D
ACTION:DISPLAY
DESCRIPTION:Recordatorio: Contrato de suministro\, instal
END:VALARM
END:VEVENT
END:VCALENDAR