BEGIN:VCALENDAR
VERSION:2.0
PRODID:-//Contratero//ES
CALSCALE:GREGORIAN
METHOD:PUBLISH
BEGIN:VEVENT
UID:D2021/014960@contratero.es
DTSTAMP:20260424T122148Z
DTSTART:20211111T235959
DTEND:20211112T005959
SUMMARY:Cierre: Adquisición de derechos de uso de 5.500 licencias 
DESCRIPTION:Adquisición de derechos de uso de 5.500 licencias de software de ofimática de escritorio con disco y buzón en nube\\n\\nOrganismo: Consejería de Fomento y Medio Ambiente de la Junta de Castilla y León\\n\\nVer en Contratero: https://contratero.es/contracts/D2021/014960
URL:https://contratero.es/contracts/D2021/014960
STATUS:CONFIRMED
BEGIN:VALARM
TRIGGER:-P1D
ACTION:DISPLAY
DESCRIPTION:Recordatorio: Adquisición de derechos de uso
END:VALARM
END:VEVENT
END:VCALENDAR