BEGIN:VCALENDAR
VERSION:2.0
PRODID:-//Contratero//ES
CALSCALE:GREGORIAN
METHOD:PUBLISH
BEGIN:VEVENT
UID:D2026/000634@contratero.es
DTSTAMP:20260419T193321Z
DTSTART:20251229T235959
DTEND:20251230T005959
SUMMARY:Cierre: Suministro de los derechos de uso y actualización 
DESCRIPTION:Suministro de los derechos de uso y actualización de las licencias necesarias para el mantenimiento del Sistema de Información Estadístico de la Consejería de Economía y Hacienda de la Junta de Castil...\\n\\nOrganismo: Consejería de Economía y Hacienda de la Junta de Castilla y León\\n\\nVer en Contratero: https://contratero.es/contracts/D2026/000634
URL:https://contratero.es/contracts/D2026/000634
STATUS:CONFIRMED
BEGIN:VALARM
TRIGGER:-P1D
ACTION:DISPLAY
DESCRIPTION:Recordatorio: Suministro de los derechos de 
END:VALARM
END:VEVENT
END:VCALENDAR