BEGIN:VCALENDAR
VERSION:2.0
PRODID:-//Contratero//ES
CALSCALE:GREGORIAN
METHOD:PUBLISH
BEGIN:VEVENT
UID:D212/2022/8@contratero.es
DTSTAMP:20260421T094423Z
DTSTART:20220810T235959
DTEND:20220811T005959
SUMMARY:Cierre: Asesoramiento técnico para el proyecto “Impulso de
DESCRIPTION:Asesoramiento técnico para el proyecto “Impulso de la Compra Pública Innovadora. Mejora del almacenaje energético\, despliegue de renovables y autoconsumo en edificios públicos e iluminaria”\\n\\nOrganismo: Junta de Gobierno del Ayuntamiento de Onda\\n\\nVer en Contratero: https://contratero.es/contracts/D212/2022/8
URL:https://contratero.es/contracts/D212/2022/8
STATUS:CONFIRMED
BEGIN:VALARM
TRIGGER:-P1D
ACTION:DISPLAY
DESCRIPTION:Recordatorio: Asesoramiento técnico para el 
END:VALARM
END:VEVENT
END:VCALENDAR