BEGIN:VCALENDAR
VERSION:2.0
PRODID:-//Contratero//ES
CALSCALE:GREGORIAN
METHOD:PUBLISH
BEGIN:VEVENT
UID:DC-SOAYC-000413@contratero.es
DTSTAMP:20260426T020716Z
DTSTART:20201110T235959
DTEND:20201111T005959
SUMMARY:Cierre: Mantenimiento de la licencia de Microsoft Dynamics
DESCRIPTION:Mantenimiento de la licencia de Microsoft Dynamics Navision\\n\\nOrganismo: ENUSA Industrias Avanzadas S.A.\, S.M.E.\\n\\nVer en Contratero: https://contratero.es/contracts/DC-SOAYC-000413
URL:https://contratero.es/contracts/DC-SOAYC-000413
STATUS:CONFIRMED
BEGIN:VALARM
TRIGGER:-P1D
ACTION:DISPLAY
DESCRIPTION:Recordatorio: Mantenimiento de la licencia d
END:VALARM
END:VEVENT
END:VCALENDAR