BEGIN:VCALENDAR
VERSION:2.0
PRODID:-//Contratero//ES
CALSCALE:GREGORIAN
METHOD:PUBLISH
BEGIN:VEVENT
UID:DC-SOAYC-000453@contratero.es
DTSTAMP:20260425T155311Z
DTSTART:20210301T235959
DTEND:20210302T005959
SUMMARY:Cierre: Mantenimiento de licencias de Software Exceed y LS
DESCRIPTION:Mantenimiento de licencias de Software Exceed y LSF propiedad de ENUSA\\n\\nOrganismo: ENUSA Industrias Avanzadas S.A.\, S.M.E.\\n\\nVer en Contratero: https://contratero.es/contracts/DC-SOAYC-000453
URL:https://contratero.es/contracts/DC-SOAYC-000453
STATUS:CONFIRMED
BEGIN:VALARM
TRIGGER:-P1D
ACTION:DISPLAY
DESCRIPTION:Recordatorio: Mantenimiento de licencias de 
END:VALARM
END:VEVENT
END:VCALENDAR