BEGIN:VCALENDAR
VERSION:2.0
PRODID:-//Contratero//ES
CALSCALE:GREGORIAN
METHOD:PUBLISH
BEGIN:VEVENT
UID:DC-SOAYC-000600@contratero.es
DTSTAMP:20260422T035225Z
DTSTART:20220520T235959
DTEND:20220521T005959
SUMMARY:Cierre: Renovación de la suscripción de licencias de produ
DESCRIPTION:Renovación de la suscripción de licencias de productos Sophos.\\n\\nOrganismo: ENUSA Industrias Avanzadas S.A.\, S.M.E.\\n\\nVer en Contratero: https://contratero.es/contracts/DC-SOAYC-000600
URL:https://contratero.es/contracts/DC-SOAYC-000600
STATUS:CONFIRMED
BEGIN:VALARM
TRIGGER:-P1D
ACTION:DISPLAY
DESCRIPTION:Recordatorio: Renovación de la suscripción d
END:VALARM
END:VEVENT
END:VCALENDAR