BEGIN:VCALENDAR
VERSION:2.0
PRODID:-//Contratero//ES
CALSCALE:GREGORIAN
METHOD:PUBLISH
BEGIN:VEVENT
UID:DC-SOAYC-000651@contratero.es
DTSTAMP:20260423T145846Z
DTSTART:20221026T235959
DTEND:20221027T005959
SUMMARY:Cierre: Mantenimiento de licencias Navision y e-facturas d
DESCRIPTION:Mantenimiento de licencias Navision y e-facturas de INNOVA\\n\\nOrganismo: ENUSA Industrias Avanzadas S.A.\, S.M.E.\\n\\nVer en Contratero: https://contratero.es/contracts/DC-SOAYC-000651
URL:https://contratero.es/contracts/DC-SOAYC-000651
STATUS:CONFIRMED
BEGIN:VALARM
TRIGGER:-P1D
ACTION:DISPLAY
DESCRIPTION:Recordatorio: Mantenimiento de licencias Nav
END:VALARM
END:VEVENT
END:VCALENDAR