BEGIN:VCALENDAR
VERSION:2.0
PRODID:-//Contratero//ES
CALSCALE:GREGORIAN
METHOD:PUBLISH
BEGIN:VEVENT
UID:DC-SOAYC-000724@contratero.es
DTSTAMP:20260425T230344Z
DTSTART:20230518T235959
DTEND:20230519T005959
SUMMARY:Cierre: Renovación de las subscripciones de Adobe que fina
DESCRIPTION:Renovación de las subscripciones de Adobe que finalizan el 11 de julio del 2023 así como adquisición de nuevas licencias (1 de Photoshop)\\n\\nOrganismo: ENUSA Industrias Avanzadas S.A.\, S.M.E.\\n\\nVer en Contratero: https://contratero.es/contracts/DC-SOAYC-000724
URL:https://contratero.es/contracts/DC-SOAYC-000724
STATUS:CONFIRMED
BEGIN:VALARM
TRIGGER:-P1D
ACTION:DISPLAY
DESCRIPTION:Recordatorio: Renovación de las subscripcion
END:VALARM
END:VEVENT
END:VCALENDAR