BEGIN:VCALENDAR
VERSION:2.0
PRODID:-//Contratero//ES
CALSCALE:GREGORIAN
METHOD:PUBLISH
BEGIN:VEVENT
UID:DCP-247/2025@contratero.es
DTSTAMP:20260419T135525Z
DTSTART:20250728T235959
DTEND:20250729T005959
SUMMARY:Cierre: Servicio Funcional\, Diseño Y De Contenidos De Los 
DESCRIPTION:Servicio Funcional\, Diseño Y De Contenidos De Los Sitios Web\, App\, Redes Sociales\, Google My Business E Intranet De Aena\\n\\nOrganismo: Aena. Presidencia. Consejero Delegado\\n\\nVer en Contratero: https://contratero.es/contracts/DCP-247/2025
URL:https://contratero.es/contracts/DCP-247/2025
STATUS:CONFIRMED
BEGIN:VALARM
TRIGGER:-P1D
ACTION:DISPLAY
DESCRIPTION:Recordatorio: Servicio Funcional\, Diseño Y D
END:VALARM
END:VEVENT
END:VCALENDAR