BEGIN:VCALENDAR
VERSION:2.0
PRODID:-//Contratero//ES
CALSCALE:GREGORIAN
METHOD:PUBLISH
BEGIN:VEVENT
UID:DDT-27/2023@contratero.es
DTSTAMP:20260422T161852Z
DTSTART:20230412T235959
DTEND:20230413T005959
SUMMARY:Cierre: Servicio De Asesoramiento Para El Escalado Agile E
DESCRIPTION:Servicio De Asesoramiento Para El Escalado Agile En Aena (Ota: Oficina De Transformación Agile).\\n\\nOrganismo: Aena. Dirección de Contratación\\n\\nVer en Contratero: https://contratero.es/contracts/DDT-27/2023
URL:https://contratero.es/contracts/DDT-27/2023
STATUS:CONFIRMED
BEGIN:VALARM
TRIGGER:-P1D
ACTION:DISPLAY
DESCRIPTION:Recordatorio: Servicio De Asesoramiento Para
END:VALARM
END:VEVENT
END:VCALENDAR