BEGIN:VCALENDAR
VERSION:2.0
PRODID:-//Contratero//ES
CALSCALE:GREGORIAN
METHOD:PUBLISH
BEGIN:VEVENT
UID:DDT-277/2024@contratero.es
DTSTAMP:20260419T135704Z
DTSTART:20240916T235959
DTEND:20240917T005959
SUMMARY:Cierre: Solución De Pagos...
DESCRIPTION:Solución De Pagos...\\n\\nOrganismo: Aena. Dirección de Contratación\\n\\nVer en Contratero: https://contratero.es/contracts/DDT-277/2024
URL:https://contratero.es/contracts/DDT-277/2024
STATUS:CONFIRMED
BEGIN:VALARM
TRIGGER:-P1D
ACTION:DISPLAY
DESCRIPTION:Recordatorio: Solución De Pagos...
END:VALARM
END:VEVENT
END:VCALENDAR