BEGIN:VCALENDAR
VERSION:2.0
PRODID:-//Contratero//ES
CALSCALE:GREGORIAN
METHOD:PUBLISH
BEGIN:VEVENT
UID:DDT-390/2025@contratero.es
DTSTAMP:20260420T030622Z
DTSTART:20251017T235959
DTEND:20251018T005959
SUMMARY:Cierre: Suministro De Productos Sap
DESCRIPTION:Suministro De Productos Sap\\n\\nOrganismo: Aena. Presidencia. Consejero Delegado\\n\\nVer en Contratero: https://contratero.es/contracts/DDT-390/2025
URL:https://contratero.es/contracts/DDT-390/2025
STATUS:CONFIRMED
BEGIN:VALARM
TRIGGER:-P1D
ACTION:DISPLAY
DESCRIPTION:Recordatorio: Suministro De Productos Sap
END:VALARM
END:VEVENT
END:VCALENDAR