BEGIN:VCALENDAR
VERSION:2.0
PRODID:-//Contratero//ES
CALSCALE:GREGORIAN
METHOD:PUBLISH
BEGIN:VEVENT
UID:DDT-391/2025@contratero.es
DTSTAMP:20260419T214924Z
DTSTART:20250930T235959
DTEND:20251001T005959
SUMMARY:Cierre: Suministro Estado Operativo Licencias Herramientas
DESCRIPTION:Suministro Estado Operativo Licencias Herramientas Suite Cx\\n\\nOrganismo: Aena. Dirección de Contratación\\n\\nVer en Contratero: https://contratero.es/contracts/DDT-391/2025
URL:https://contratero.es/contracts/DDT-391/2025
STATUS:CONFIRMED
BEGIN:VALARM
TRIGGER:-P1D
ACTION:DISPLAY
DESCRIPTION:Recordatorio: Suministro Estado Operativo Li
END:VALARM
END:VEVENT
END:VCALENDAR