BEGIN:VCALENDAR
VERSION:2.0
PRODID:-//Contratero//ES
CALSCALE:GREGORIAN
METHOD:PUBLISH
BEGIN:VEVENT
UID:DDT-563/2021@contratero.es
DTSTAMP:20260423T080812Z
DTSTART:20220204T235959
DTEND:20220205T005959
SUMMARY:Cierre: Desarrollo Y Mantenimiento De Aplicaciones De Gest
DESCRIPTION:Desarrollo Y Mantenimiento De Aplicaciones De Gestión Comercial\, Comunicación E Innovación\\n\\nOrganismo: Aena. Consejo de Administración\\n\\nVer en Contratero: https://contratero.es/contracts/DDT-563/2021
URL:https://contratero.es/contracts/DDT-563/2021
STATUS:CONFIRMED
BEGIN:VALARM
TRIGGER:-P1D
ACTION:DISPLAY
DESCRIPTION:Recordatorio: Desarrollo Y Mantenimiento De 
END:VALARM
END:VEVENT
END:VCALENDAR