BEGIN:VCALENDAR
VERSION:2.0
PRODID:-//Contratero//ES
CALSCALE:GREGORIAN
METHOD:PUBLISH
BEGIN:VEVENT
UID:DGPEP2021002@contratero.es
DTSTAMP:20260419T163617Z
DTSTART:20210701T235959
DTEND:20210702T005959
SUMMARY:Cierre: Trabajos de grabación de cuestionarios de la Estad
DESCRIPTION:Trabajos de grabación de cuestionarios de la Estadística de Construcción de Edificios\\n\\nOrganismo: Dirección General de Programación Económica y Presupuestos\\n\\nVer en Contratero: https://contratero.es/contracts/DGPEP2021002
URL:https://contratero.es/contracts/DGPEP2021002
STATUS:CONFIRMED
BEGIN:VALARM
TRIGGER:-P1D
ACTION:DISPLAY
DESCRIPTION:Recordatorio: Trabajos de grabación de cuest
END:VALARM
END:VEVENT
END:VCALENDAR